BEGIN:VCALENDAR
VERSION:2.0
PRODID:-//demosphere.net//NONSGML kigkonsult.se iCalcreator 2.22.1//
METHOD:REQUEST
X-WR-TIMEZONE:Europe/Athens
BEGIN:VEVENT
UID:https://mail.kinimatorama.net/event/19426
DTSTAMP:20120505T140000Z
DESCRIPTION:περισσότερες πληροφορίες: https://mail.kinimatorama.net/event/1
 9426 
DTSTART:20120505T140000Z
DTEND:20120505T150000Z
GEO:+37.975682;+23.734846
LOCATION:Αθήνα\, \nΠλατεία Συντάγματος (Σύνταγμα)
SUMMARY:Αγορά: Άφιξη της Πορείας από Νίκαια- Συζήτηση γνωριμίας
URL:https://mail.kinimatorama.net/event/19426
END:VEVENT
END:VCALENDAR
