BEGIN:VCALENDAR
VERSION:2.0
PRODID:-//demosphere.net//NONSGML kigkonsult.se iCalcreator 2.22.1//
METHOD:REQUEST
X-WR-TIMEZONE:Europe/Athens
BEGIN:VEVENT
UID:https://mail.kinimatorama.net/event/19427
DTSTAMP:20120506T150000Z
DESCRIPTION:περισσότερες πληροφορίες: https://mail.kinimatorama.net/event/1
 9427 
DTSTART:20120506T150000Z
DTEND:20120506T160000Z
GEO:+37.975682;+23.734846
LOCATION:Αθήνα\, \nΠλατεία Συντάγματος (Σύνταγμα)
SUMMARY:Αγορά: Αντιεκλογικό Πάρτυ
URL:https://mail.kinimatorama.net/event/19427
END:VEVENT
END:VCALENDAR
