BEGIN:VCALENDAR
VERSION:2.0
PRODID:-//demosphere.net//NONSGML kigkonsult.se iCalcreator 2.22.1//
METHOD:REQUEST
X-WR-TIMEZONE:Europe/Athens
BEGIN:VEVENT
UID:https://mail.kinimatorama.net/event/20571
DTSTAMP:20120609T160000Z
DESCRIPTION:περισσότερες πληροφορίες: https://mail.kinimatorama.net/event/2
 0571 
DTSTART:20120609T160000Z
DTEND:20120609T170000Z
GEO:+37.975682;+23.734846
LOCATION:Αθήνα\, \nΠλατεία Συντάγματος (Σύνταγμα)
SUMMARY:Πανευρωπαϊκή διαμαρτυρία για την ACTA
URL:https://mail.kinimatorama.net/event/20571
END:VEVENT
END:VCALENDAR
