BEGIN:VCALENDAR
VERSION:2.0
PRODID:-//demosphere.net//NONSGML kigkonsult.se iCalcreator 2.22.1//
METHOD:REQUEST
X-WR-TIMEZONE:Europe/Athens
BEGIN:VEVENT
UID:https://mail.kinimatorama.net/event/25105
DTSTAMP:20130111T160000Z
DESCRIPTION:περισσότερες πληροφορίες: https://mail.kinimatorama.net/event/2
 5105 
DTSTART:20130111T160000Z
DTEND:20130111T170000Z
GEO:+37.975682;+23.734846
LOCATION:Αθήνα\, \nΠλατεία Συντάγματος (Σύνταγμα)
SUMMARY:Ενημερωτική παρέμβαση εν όψει της ψήφισης του φορονομοσχεδίου
URL:https://mail.kinimatorama.net/event/25105
END:VEVENT
END:VCALENDAR
