BEGIN:VCALENDAR
VERSION:2.0
PRODID:-//demosphere.net//NONSGML kigkonsult.se iCalcreator 2.22.1//
METHOD:REQUEST
X-WR-TIMEZONE:Europe/Athens
BEGIN:VEVENT
UID:https://mail.kinimatorama.net/event/2842
DTSTAMP:20100409T153000Z
DESCRIPTION:περισσότερες πληροφορίες: https://mail.kinimatorama.net/event/2
 842 
DTSTART:20100409T153000Z
DTEND:20100409T163000Z
GEO:+37.975682;+23.734846
LOCATION:Αθήνα\, \nΠλατεία Συντάγματος (Σύνταγμα)
SUMMARY:Εκδήλωση αλληλεγγύης & οικ. ενίσχυσης στον Μάριο Ζέρβα
URL:https://mail.kinimatorama.net/event/2842
END:VEVENT
END:VCALENDAR
