BEGIN:VCALENDAR
VERSION:2.0
PRODID:-//demosphere.net//NONSGML kigkonsult.se iCalcreator 2.22.1//
METHOD:REQUEST
X-WR-TIMEZONE:Europe/Athens
BEGIN:VEVENT
UID:https://mail.kinimatorama.net/event/294
DTSTAMP:20091104T160000Z
DESCRIPTION:περισσότερες πληροφορίες: https://mail.kinimatorama.net/event/2
 94 
DTSTART:20091104T160000Z
DTEND:20091104T170000Z
GEO:+37.975682;+23.734846
LOCATION:Αθήνα\, \nΠλατεία Συντάγματος (Σύνταγμα)
SUMMARY:Διεθνής Αντιρατσιστική Διαδήλωση
URL:https://mail.kinimatorama.net/event/294
END:VEVENT
END:VCALENDAR
