BEGIN:VCALENDAR
VERSION:2.0
PRODID:-//demosphere.net//NONSGML kigkonsult.se iCalcreator 2.22.1//
METHOD:REQUEST
X-WR-TIMEZONE:Europe/Athens
BEGIN:VEVENT
UID:https://mail.kinimatorama.net/event/32561
DTSTAMP:20131025T143000Z
DESCRIPTION:περισσότερες πληροφορίες: https://mail.kinimatorama.net/event/3
 2561 
DTSTART:20131025T143000Z
DTEND:20131025T153000Z
GEO:+37.975682;+23.734846
LOCATION:Αθήνα\, \nΠλατεία Συντάγματος (Σύνταγμα)
SUMMARY:Συγκέντρωση Συμπαράστασης στους Απεργούς Πείνας
URL:https://mail.kinimatorama.net/event/32561
END:VEVENT
END:VCALENDAR
