BEGIN:VCALENDAR
VERSION:2.0
PRODID:-//demosphere.net//NONSGML kigkonsult.se iCalcreator 2.22.1//
METHOD:REQUEST
X-WR-TIMEZONE:Europe/Athens
BEGIN:VEVENT
UID:https://mail.kinimatorama.net/event/36685
DTSTAMP:20140207T150000Z
DESCRIPTION:περισσότερες πληροφορίες: https://mail.kinimatorama.net/event/3
 6685 
DTSTART:20140207T150000Z
DTEND:20140207T160000Z
GEO:+37.975682;+23.734846
LOCATION:Αθήνα\, \nΠλατεία Συντάγματος (Σύνταγμα)
SUMMARY:Κάλεσμα σε συγκέντρωση διαμαρτυρίας για το Φαρμακονήσι
URL:https://mail.kinimatorama.net/event/36685
END:VEVENT
END:VCALENDAR
