BEGIN:VCALENDAR
VERSION:2.0
PRODID:-//demosphere.net//NONSGML kigkonsult.se iCalcreator 2.22.1//
METHOD:REQUEST
X-WR-TIMEZONE:Europe/Athens
BEGIN:VEVENT
UID:https://mail.kinimatorama.net/event/37296
DTSTAMP:20140322T140000Z
DESCRIPTION:περισσότερες πληροφορίες: https://mail.kinimatorama.net/event/3
 7296 
DTSTART:20140322T140000Z
DTEND:20140322T150000Z
GEO:+37.975682;+23.734846
LOCATION:Αθήνα\, \nΠλατεία Συντάγματος (Σύνταγμα)
SUMMARY:Συναυλία
URL:https://mail.kinimatorama.net/event/37296
END:VEVENT
END:VCALENDAR
