BEGIN:VCALENDAR
VERSION:2.0
PRODID:-//demosphere.net//NONSGML kigkonsult.se iCalcreator 2.22.1//
METHOD:REQUEST
X-WR-TIMEZONE:Europe/Athens
BEGIN:VEVENT
UID:https://mail.kinimatorama.net/event/39090
DTSTAMP:20140413T080000Z
DESCRIPTION:περισσότερες πληροφορίες: https://mail.kinimatorama.net/event/3
 9090 
DTSTART:20140413T080000Z
DTEND:20140413T090000Z
GEO:+37.975682;+23.734846
LOCATION:Αθήνα\, \nΠλατεία Συντάγματος (Σύνταγμα)
SUMMARY:Συγκέντρωση πανελλαδικής απεργίας στο εμπόριο
URL:https://mail.kinimatorama.net/event/39090
END:VEVENT
END:VCALENDAR
