BEGIN:VCALENDAR
VERSION:2.0
PRODID:-//demosphere.net//NONSGML kigkonsult.se iCalcreator 2.22.1//
METHOD:REQUEST
X-WR-TIMEZONE:Europe/Athens
BEGIN:VEVENT
UID:https://mail.kinimatorama.net/event/40947
DTSTAMP:20140605T100000Z
DESCRIPTION:περισσότερες πληροφορίες: https://mail.kinimatorama.net/event/4
 0947 
DTSTART:20140605T100000Z
DTEND:20140605T110000Z
GEO:+37.975682;+23.734846
LOCATION:Αθήνα\, \nΠλατεία Συντάγματος (Σύνταγμα)
SUMMARY:Συγκέντρωση αλληλεγγύης στις αγωνιζόμενες καθαρίστριες
URL:https://mail.kinimatorama.net/event/40947
END:VEVENT
END:VCALENDAR
