BEGIN:VCALENDAR
VERSION:2.0
PRODID:-//demosphere.net//NONSGML kigkonsult.se iCalcreator 2.22.1//
METHOD:REQUEST
X-WR-TIMEZONE:Europe/Athens
BEGIN:VEVENT
UID:https://mail.kinimatorama.net/event/42287
DTSTAMP:20140731T160000Z
DESCRIPTION:περισσότερες πληροφορίες: https://mail.kinimatorama.net/event/4
 2287 
DTSTART:20140731T160000Z
DTEND:20140731T170000Z
GEO:+37.975682;+23.734846
LOCATION:Αθήνα\, \nΠλατεία Συντάγματος (Σύνταγμα)
SUMMARY:Συγκέντρωση διαμαρτυρίας και πορεία προς τα γραφεία της ΕΕ για τη Γ
 άζα
URL:https://mail.kinimatorama.net/event/42287
END:VEVENT
END:VCALENDAR
