BEGIN:VCALENDAR
VERSION:2.0
PRODID:-//demosphere.net//NONSGML kigkonsult.se iCalcreator 2.22.1//
METHOD:REQUEST
X-WR-TIMEZONE:Europe/Athens
BEGIN:VEVENT
UID:https://mail.kinimatorama.net/event/44058
DTSTAMP:20141022T123000Z
DESCRIPTION:περισσότερες πληροφορίες: https://mail.kinimatorama.net/event/4
 4058 
DTSTART:20141022T123000Z
DTEND:20141022T133000Z
GEO:+37.975682;+23.734846
LOCATION:Αθήνα\, \nΠλατεία Συντάγματος (Σύνταγμα)
SUMMARY:Ποδηλατοπορεία μνήμης και οργής
URL:https://mail.kinimatorama.net/event/44058
END:VEVENT
END:VCALENDAR
