BEGIN:VCALENDAR
VERSION:2.0
PRODID:-//demosphere.net//NONSGML kigkonsult.se iCalcreator 2.22.1//
METHOD:REQUEST
X-WR-TIMEZONE:Europe/Athens
BEGIN:VEVENT
UID:https://mail.kinimatorama.net/event/45240
DTSTAMP:20141120T140000Z
DESCRIPTION:περισσότερες πληροφορίες: https://mail.kinimatorama.net/event/4
 5240 
DTSTART:20141120T140000Z
DTEND:20141120T150000Z
GEO:+37.975682;+23.734846
LOCATION:Αθήνα\, \nΠλατεία Συντάγματος (Σύνταγμα)
SUMMARY:Έκτακτο κάλεσμα συμπαράστασης στους Σύριους πρόσφυγες
URL:https://mail.kinimatorama.net/event/45240
END:VEVENT
END:VCALENDAR
