BEGIN:VCALENDAR
VERSION:2.0
PRODID:-//demosphere.net//NONSGML kigkonsult.se iCalcreator 2.22.1//
METHOD:REQUEST
X-WR-TIMEZONE:Europe/Athens
BEGIN:VEVENT
UID:https://mail.kinimatorama.net/event/46009
DTSTAMP:20141207T150000Z
DESCRIPTION:περισσότερες πληροφορίες: https://mail.kinimatorama.net/event/4
 6009 
DTSTART:20141207T150000Z
DTEND:20141207T160000Z
GEO:+37.975682;+23.734846
LOCATION:Αθήνα\, \nΠλατεία Συντάγματος (Σύνταγμα)
SUMMARY:Συγκέντρωση-πορεία αλληλεγγύης στους αναρχικούς απεργούς πείνας
URL:https://mail.kinimatorama.net/event/46009
END:VEVENT
END:VCALENDAR
