BEGIN:VCALENDAR
VERSION:2.0
PRODID:-//demosphere.net//NONSGML kigkonsult.se iCalcreator 2.22.1//
METHOD:REQUEST
X-WR-TIMEZONE:Europe/Athens
BEGIN:VEVENT
UID:https://mail.kinimatorama.net/event/48010
DTSTAMP:20150215T153000Z
DESCRIPTION:περισσότερες πληροφορίες: https://mail.kinimatorama.net/event/4
 8010 
DTSTART:20150215T153000Z
DTEND:20150215T163000Z
GEO:+37.975682;+23.734846
LOCATION:Αθήνα\, \nΠλατεία Συντάγματος (Σύνταγμα)
SUMMARY:Συγκέντρωση ενάντια στην ΕΕ
URL:https://mail.kinimatorama.net/event/48010
END:VEVENT
END:VCALENDAR
