BEGIN:VCALENDAR
VERSION:2.0
PRODID:-//demosphere.net//NONSGML kigkonsult.se iCalcreator 2.22.1//
METHOD:REQUEST
X-WR-TIMEZONE:Europe/Athens
BEGIN:VEVENT
UID:https://mail.kinimatorama.net/event/48560
DTSTAMP:20150221T183000Z
DESCRIPTION:περισσότερες πληροφορίες: https://mail.kinimatorama.net/event/4
 8560 
DTSTART:20150221T183000Z
DTEND:20150221T193000Z
GEO:+40.653653;+22.939807
LOCATION:Θεσσαλονίκη\, \nΣτέκι ΑΠΑΝ - Λαϊκής Βιβλιοθήκης \nΜουδανιών 18 \nΝ
 εάπολη
SUMMARY:Προβολή της ταινίας ''Αρχίστε την επανάσταση χωρίς εμένα''
URL:https://mail.kinimatorama.net/event/48560
END:VEVENT
END:VCALENDAR
