BEGIN:VCALENDAR
VERSION:2.0
PRODID:-//demosphere.net//NONSGML kigkonsult.se iCalcreator 2.22.1//
METHOD:REQUEST
X-WR-TIMEZONE:Europe/Athens
BEGIN:VEVENT
UID:https://mail.kinimatorama.net/event/50860
DTSTAMP:20150501T090000Z
DESCRIPTION:περισσότερες πληροφορίες: https://mail.kinimatorama.net/event/5
 0860 
DTSTART:20150501T090000Z
DTEND:20150501T100000Z
GEO:+37.975682;+23.734846
LOCATION:Αθήνα\, \nΠλατεία Συντάγματος (Σύνταγμα)
SUMMARY:Συγκέντρωση - Ενάντια στη βιομηχανία κρέατος και γούνας
URL:https://mail.kinimatorama.net/event/50860
END:VEVENT
END:VCALENDAR
