BEGIN:VCALENDAR
VERSION:2.0
PRODID:-//demosphere.net//NONSGML kigkonsult.se iCalcreator 2.22.1//
METHOD:REQUEST
X-WR-TIMEZONE:Europe/Athens
BEGIN:VEVENT
UID:https://mail.kinimatorama.net/event/54093
DTSTAMP:20150709T150000Z
DESCRIPTION:περισσότερες πληροφορίες: https://mail.kinimatorama.net/event/5
 4093 
DTSTART:20150709T150000Z
DTEND:20150709T160000Z
GEO:+37.975682;+23.734846
LOCATION:Αθήνα\, \nΠλατεία Συντάγματος (Σύνταγμα)
SUMMARY:(Ακύρωση) Συγκέντρωση ενάντια στους λακέδες
URL:https://mail.kinimatorama.net/event/54093
END:VEVENT
END:VCALENDAR
