BEGIN:VCALENDAR
VERSION:2.0
PRODID:-//demosphere.net//NONSGML kigkonsult.se iCalcreator 2.22.1//
METHOD:REQUEST
X-WR-TIMEZONE:Europe/Athens
BEGIN:VEVENT
UID:https://mail.kinimatorama.net/event/54445
DTSTAMP:20150721T160000Z
DESCRIPTION:περισσότερες πληροφορίες: https://mail.kinimatorama.net/event/5
 4445 
DTSTART:20150721T160000Z
DTEND:20150721T170000Z
GEO:+37.975682;+23.734846
LOCATION:Αθήνα\, \nΠλατεία Συντάγματος (Σύνταγμα)
SUMMARY:Η πολιτική της απαξίωσης & τα νέα μέτρα που προβλέπονται από το 3ο 
 μνημόνιο
URL:https://mail.kinimatorama.net/event/54445
END:VEVENT
END:VCALENDAR
