BEGIN:VCALENDAR
VERSION:2.0
PRODID:-//demosphere.net//NONSGML kigkonsult.se iCalcreator 2.22.1//
METHOD:REQUEST
X-WR-TIMEZONE:Europe/Athens
BEGIN:VEVENT
UID:https://mail.kinimatorama.net/event/54448
DTSTAMP:20150723T160000Z
DESCRIPTION:περισσότερες πληροφορίες: https://mail.kinimatorama.net/event/5
 4448 
DTSTART:20150723T160000Z
DTEND:20150723T170000Z
GEO:+37.975682;+23.734846
LOCATION:Αθήνα\, \nΠλατεία Συντάγματος (Σύνταγμα)
SUMMARY:Εκδήλωση: Στάση πληρωμών από τα κάτω: αυτομείωση των τιμών και των 
 χρεών
URL:https://mail.kinimatorama.net/event/54448
END:VEVENT
END:VCALENDAR
