BEGIN:VCALENDAR
VERSION:2.0
PRODID:-//demosphere.net//NONSGML kigkonsult.se iCalcreator 2.22.1//
METHOD:REQUEST
X-WR-TIMEZONE:Europe/Athens
BEGIN:VEVENT
UID:https://mail.kinimatorama.net/event/56352
DTSTAMP:20151003T090000Z
DESCRIPTION:περισσότερες πληροφορίες: https://mail.kinimatorama.net/event/5
 6352 
DTSTART:20151003T090000Z
DTEND:20151003T100000Z
GEO:+37.975682;+23.734846
LOCATION:Αθήνα\, \nΠλατεία Συντάγματος (Σύνταγμα)
SUMMARY:Μικροφωνική-παρέμβαση αλληλεγγύης στους διωκόμενους απεργούς του ΕΚ
 ΠΑ
URL:https://mail.kinimatorama.net/event/56352
END:VEVENT
END:VCALENDAR
