BEGIN:VCALENDAR
VERSION:2.0
PRODID:-//demosphere.net//NONSGML kigkonsult.se iCalcreator 2.22.1//
METHOD:REQUEST
X-WR-TIMEZONE:Europe/Athens
BEGIN:VEVENT
UID:https://mail.kinimatorama.net/event/58926
DTSTAMP:20151119T163000Z
DESCRIPTION:περισσότερες πληροφορίες: https://mail.kinimatorama.net/event/5
 8926 
DTSTART:20151119T163000Z
DTEND:20151119T173000Z
GEO:+37.975682;+23.734846
LOCATION:Αθήνα\, \nΠλατεία Συντάγματος (Σύνταγμα)
SUMMARY:Κάτω τα χέρια απο τη λαϊκή στέγη
URL:https://mail.kinimatorama.net/event/58926
END:VEVENT
END:VCALENDAR
