BEGIN:VCALENDAR
VERSION:2.0
PRODID:-//demosphere.net//NONSGML kigkonsult.se iCalcreator 2.22.1//
METHOD:REQUEST
X-WR-TIMEZONE:Europe/Athens
BEGIN:VEVENT
UID:https://mail.kinimatorama.net/event/62888
DTSTAMP:20160212T153000Z
DESCRIPTION:περισσότερες πληροφορίες: https://mail.kinimatorama.net/event/6
 2888 
DTSTART:20160212T153000Z
DTEND:20160212T163000Z
GEO:+37.975682;+23.734846
LOCATION:Αθήνα\, \nΠλατεία Συντάγματος (Σύνταγμα)
SUMMARY:Συγκέντρωση-διαδήλωση ενάντια στο νέο ασφαλιστικό
URL:https://mail.kinimatorama.net/event/62888
END:VEVENT
END:VCALENDAR
