BEGIN:VCALENDAR
VERSION:2.0
PRODID:-//demosphere.net//NONSGML kigkonsult.se iCalcreator 2.22.1//
METHOD:REQUEST
X-WR-TIMEZONE:Europe/Athens
BEGIN:VEVENT
UID:https://mail.kinimatorama.net/event/6423
DTSTAMP:20101126T163000Z
DESCRIPTION:περισσότερες πληροφορίες: https://mail.kinimatorama.net/event/6
 423 
DTSTART:20101126T163000Z
DTEND:20101126T173000Z
GEO:+37.975682;+23.734846
LOCATION:Αθήνα\, \nΠλατεία Συντάγματος (Σύνταγμα)
SUMMARY:Συγκέντρωση για την Παγκόσμια Ημέρα Κατά της Γούνας
URL:https://mail.kinimatorama.net/event/6423
END:VEVENT
END:VCALENDAR
