BEGIN:VCALENDAR
VERSION:2.0
PRODID:-//demosphere.net//NONSGML kigkonsult.se iCalcreator 2.22.1//
METHOD:REQUEST
X-WR-TIMEZONE:Europe/Athens
BEGIN:VEVENT
UID:https://mail.kinimatorama.net/event/67908
DTSTAMP:20160508T150000Z
DESCRIPTION:περισσότερες πληροφορίες: https://mail.kinimatorama.net/event/6
 7908 
DTSTART:20160508T150000Z
DTEND:20160508T160000Z
GEO:+37.975682;+23.734846
LOCATION:Αθήνα\, \nΠλατεία Συντάγματος (Σύνταγμα)
SUMMARY:Απεργιακή Συγκέντρωση
URL:https://mail.kinimatorama.net/event/67908
END:VEVENT
END:VCALENDAR
