BEGIN:VCALENDAR
VERSION:2.0
PRODID:-//demosphere.net//NONSGML kigkonsult.se iCalcreator 2.22.1//
METHOD:REQUEST
X-WR-TIMEZONE:Europe/Athens
BEGIN:VEVENT
UID:https://mail.kinimatorama.net/event/67979
DTSTAMP:20160507T150000Z
DESCRIPTION:περισσότερες πληροφορίες: https://mail.kinimatorama.net/event/6
 7979 
DTSTART:20160507T150000Z
DTEND:20160507T160000Z
GEO:+37.975682;+23.734846
LOCATION:Αθήνα\, \nΠλατεία Συντάγματος (Σύνταγμα)
SUMMARY:Μικροφωνική διαμαρτυρία ενάντια στο αντι-ασφαλιστικό νομοσχέδιο
URL:https://mail.kinimatorama.net/event/67979
END:VEVENT
END:VCALENDAR
