BEGIN:VCALENDAR
VERSION:2.0
PRODID:-//demosphere.net//NONSGML kigkonsult.se iCalcreator 2.22.1//
METHOD:REQUEST
X-WR-TIMEZONE:Europe/Athens
BEGIN:VEVENT
UID:https://mail.kinimatorama.net/event/69487
DTSTAMP:20160614T170000Z
DESCRIPTION:περισσότερες πληροφορίες: https://mail.kinimatorama.net/event/6
 9487 
DTSTART:20160614T170000Z
DTEND:20160614T180000Z
GEO:+37.975682;+23.734846
LOCATION:Αθήνα\, \nΠλατεία Συντάγματος (Σύνταγμα)
SUMMARY:Συγκέντρωση μνήμης για τα θύματα τρομοκρατίας στο Ορλάντο
URL:https://mail.kinimatorama.net/event/69487
END:VEVENT
END:VCALENDAR
