BEGIN:VCALENDAR
VERSION:2.0
PRODID:-//demosphere.net//NONSGML kigkonsult.se iCalcreator 2.22.1//
METHOD:REQUEST
X-WR-TIMEZONE:Europe/Athens
BEGIN:VEVENT
UID:https://mail.kinimatorama.net/event/7120
DTSTAMP:20110101T113000Z
DESCRIPTION:περισσότερες πληροφορίες: https://mail.kinimatorama.net/event/7
 120 
DTSTART:20110101T113000Z
DTEND:20110101T123000Z
GEO:+37.975682;+23.734846
LOCATION:Αθήνα\, \nΠλατεία Συντάγματος (Σύνταγμα)
SUMMARY:Συγκέντρωση διαμαρτυρίας ενάντια στην εκμετάλλευση των ζώων
URL:https://mail.kinimatorama.net/event/7120
END:VEVENT
END:VCALENDAR
