BEGIN:VCALENDAR
VERSION:2.0
PRODID:-//demosphere.net//NONSGML kigkonsult.se iCalcreator 2.22.1//
METHOD:REQUEST
X-WR-TIMEZONE:Europe/Athens
BEGIN:VEVENT
UID:https://mail.kinimatorama.net/event/7136
DTSTAMP:20110502T150000Z
DESCRIPTION:περισσότερες πληροφορίες: https://mail.kinimatorama.net/event/7
 136 
DTSTART:20110502T150000Z
DTEND:20110502T160000Z
GEO:+37.975682;+23.734846
LOCATION:Αθήνα\, \nΠλατεία Συντάγματος (Σύνταγμα)
SUMMARY:Ποδηλατοβόλτα Critical Mass Ride
URL:https://mail.kinimatorama.net/event/7136
END:VEVENT
END:VCALENDAR
