BEGIN:VCALENDAR
VERSION:2.0
PRODID:-//demosphere.net//NONSGML kigkonsult.se iCalcreator 2.22.1//
METHOD:REQUEST
X-WR-TIMEZONE:Europe/Athens
BEGIN:VEVENT
UID:https://mail.kinimatorama.net/event/71800
DTSTAMP:20160902T160000Z
DESCRIPTION:περισσότερες πληροφορίες: https://mail.kinimatorama.net/event/7
 1800 
DTSTART:20160902T160000Z
DTEND:20160902T170000Z
GEO:+37.975682;+23.734846
LOCATION:Αθήνα\, \nΠλατεία Συντάγματος (Σύνταγμα)
SUMMARY:Πορεία αλληλεγγύης στον αγωνιζόμενο κουρδικό λαό
URL:https://mail.kinimatorama.net/event/71800
END:VEVENT
END:VCALENDAR
