BEGIN:VCALENDAR
VERSION:2.0
PRODID:-//demosphere.net//NONSGML kigkonsult.se iCalcreator 2.22.1//
METHOD:REQUEST
X-WR-TIMEZONE:Europe/Athens
BEGIN:VEVENT
UID:https://mail.kinimatorama.net/event/73814
DTSTAMP:20161027T140000Z
DESCRIPTION:περισσότερες πληροφορίες: https://mail.kinimatorama.net/event/7
 3814 
DTSTART:20161027T140000Z
DTEND:20161027T150000Z
GEO:+37.975682;+23.734846
LOCATION:Αθήνα\, \nΠλατεία Συντάγματος (Σύνταγμα)
SUMMARY:Συγκέντρωση διαμαρτυρίας ενάντια στο φασιστικό καθεστώς του Ερντογά
 ν
URL:https://mail.kinimatorama.net/event/73814
END:VEVENT
END:VCALENDAR
