BEGIN:VCALENDAR
VERSION:2.0
PRODID:-//demosphere.net//NONSGML kigkonsult.se iCalcreator 2.22.1//
METHOD:REQUEST
X-WR-TIMEZONE:Europe/Athens
BEGIN:VEVENT
UID:https://mail.kinimatorama.net/event/86411
DTSTAMP:20170803T160000Z
DESCRIPTION:περισσότερες πληροφορίες: https://mail.kinimatorama.net/event/8
 6411 
DTSTART:20170803T160000Z
DTEND:20170803T170000Z
GEO:+37.975682;+23.734846
LOCATION:Αθήνα\, \nΠλατεία Συντάγματος (Σύνταγμα)
SUMMARY:Συγκέντρωση - Μικροφωνική Αλληλεγγύης στον σύντροφο Παναγιώτη Ζ.
URL:https://mail.kinimatorama.net/event/86411
END:VEVENT
END:VCALENDAR
