BEGIN:VCALENDAR
VERSION:2.0
PRODID:-//demosphere.net//NONSGML kigkonsult.se iCalcreator 2.22.1//
METHOD:REQUEST
X-WR-TIMEZONE:Europe/Athens
BEGIN:VEVENT
UID:https://mail.kinimatorama.net/event/88913
DTSTAMP:20171101T090000Z
DESCRIPTION:περισσότερες πληροφορίες: https://mail.kinimatorama.net/event/8
 8913 
DTSTART:20171101T090000Z
DTEND:20171101T100000Z
GEO:+37.975682;+23.734846
LOCATION:Αθήνα\, \nΠλατεία Συντάγματος (Σύνταγμα)
SUMMARY:Κάλεσμα σε προσφυγική διαμαρτυρία
URL:https://mail.kinimatorama.net/event/88913
END:VEVENT
END:VCALENDAR
