BEGIN:VCALENDAR
VERSION:2.0
PRODID:-//demosphere.net//NONSGML kigkonsult.se iCalcreator 2.22.1//
METHOD:REQUEST
X-WR-TIMEZONE:Europe/Athens
BEGIN:VEVENT
UID:https://mail.kinimatorama.net/event/89214
DTSTAMP:20171101T170000Z
DESCRIPTION:περισσότερες πληροφορίες: https://mail.kinimatorama.net/event/8
 9214 
DTSTART:20171101T170000Z
DTEND:20171101T180000Z
GEO:+37.975682;+23.734846
LOCATION:Αθήνα\, \nΠλατεία Συντάγματος (Σύνταγμα)
SUMMARY:Ανοιχτή συνέλευση αλληλεγγύης στους απεργούς πείνας
URL:https://mail.kinimatorama.net/event/89214
END:VEVENT
END:VCALENDAR
