BEGIN:VCALENDAR
VERSION:2.0
PRODID:-//demosphere.net//NONSGML kigkonsult.se iCalcreator 2.22.1//
METHOD:REQUEST
X-WR-TIMEZONE:Europe/Athens
BEGIN:VEVENT
UID:https://mail.kinimatorama.net/event/89307
DTSTAMP:20171104T130000Z
DESCRIPTION:περισσότερες πληροφορίες: https://mail.kinimatorama.net/event/8
 9307 
DTSTART:20171104T130000Z
DTEND:20171104T140000Z
GEO:+37.975682;+23.734846
LOCATION:Αθήνα\, \nΠλατεία Συντάγματος (Σύνταγμα)
SUMMARY:Δραστηριότητες για τα παιδιά\, στο χώρο της Απεργίας Πείνας
URL:https://mail.kinimatorama.net/event/89307
END:VEVENT
END:VCALENDAR
