BEGIN:VCALENDAR
VERSION:2.0
PRODID:-//demosphere.net//NONSGML kigkonsult.se iCalcreator 2.22.1//
METHOD:REQUEST
X-WR-TIMEZONE:Europe/Athens
BEGIN:VEVENT
UID:https://mail.kinimatorama.net/event/89352
DTSTAMP:20171108T100000Z
DESCRIPTION:περισσότερες πληροφορίες: https://mail.kinimatorama.net/event/8
 9352 
DTSTART:20171108T100000Z
DTEND:20171108T110000Z
GEO:+37.975682;+23.734846
LOCATION:Αθήνα\, \nΠλατεία Συντάγματος (Σύνταγμα)
SUMMARY:Διαδήλωση στη γερμανική πρεσβεία // Demo to the german embassy
URL:https://mail.kinimatorama.net/event/89352
END:VEVENT
END:VCALENDAR
