BEGIN:VCALENDAR
VERSION:2.0
PRODID:-//demosphere.net//NONSGML kigkonsult.se iCalcreator 2.22.1//
METHOD:REQUEST
X-WR-TIMEZONE:Europe/Athens
BEGIN:VEVENT
UID:https://mail.kinimatorama.net/event/90906
DTSTAMP:20171208T160000Z
DESCRIPTION:περισσότερες πληροφορίες: https://mail.kinimatorama.net/event/9
 0906 
DTSTART:20171208T160000Z
DTEND:20171208T170000Z
GEO:+37.975682;+23.734846
LOCATION:Αθήνα\, \nΠλατεία Συντάγματος (Σύνταγμα)
SUMMARY:Πορεία αλληλεγγύης στον λαό της Παλαιστίνης
URL:https://mail.kinimatorama.net/event/90906
END:VEVENT
END:VCALENDAR
