BEGIN:VCALENDAR
VERSION:2.0
PRODID:-//demosphere.net//NONSGML kigkonsult.se iCalcreator 2.22.1//
METHOD:REQUEST
X-WR-TIMEZONE:Europe/Athens
BEGIN:VEVENT
UID:https://mail.kinimatorama.net/event/9209
DTSTAMP:20110322T150000Z
DESCRIPTION:περισσότερες πληροφορίες: https://mail.kinimatorama.net/event/9
 209 
DTSTART:20110322T150000Z
DTEND:20110322T160000Z
GEO:+37.975682;+23.734846
LOCATION:Αθήνα\, \nΠλατεία Συντάγματος (Σύνταγμα)
SUMMARY:Ανοιχτή Συνέλευση πλατείας Συντάγματος
URL:https://mail.kinimatorama.net/event/9209
END:VEVENT
END:VCALENDAR
