BEGIN:VCALENDAR
VERSION:2.0
PRODID:-//demosphere.net//NONSGML kigkonsult.se iCalcreator 2.22.1//
METHOD:REQUEST
X-WR-TIMEZONE:Europe/Athens
BEGIN:VEVENT
UID:https://mail.kinimatorama.net/event/94139
DTSTAMP:20180305T150000Z
DESCRIPTION:περισσότερες πληροφορίες: https://mail.kinimatorama.net/event/9
 4139 
DTSTART:20180305T150000Z
DTEND:20180305T160000Z
GEO:+37.975682;+23.734846
LOCATION:Αθήνα\, \nΠλατεία Συντάγματος (Σύνταγμα)
SUMMARY:Αντιφασιστική - αντιεθνικιστική διαδήλωση
URL:https://mail.kinimatorama.net/event/94139
END:VEVENT
END:VCALENDAR
