BEGIN:VCALENDAR
VERSION:2.0
PRODID:-//demosphere.net//NONSGML kigkonsult.se iCalcreator 2.22.1//
METHOD:REQUEST
X-WR-TIMEZONE:Europe/Athens
BEGIN:VEVENT
UID:https://mail.kinimatorama.net/event/9553
DTSTAMP:20110405T140000Z
DESCRIPTION:περισσότερες πληροφορίες: https://mail.kinimatorama.net/event/9
 553 
DTSTART:20110405T140000Z
DTEND:20110405T150000Z
GEO:+37.975682;+23.734846
LOCATION:Αθήνα\, \nΠλατεία Συντάγματος (Σύνταγμα)
SUMMARY:Ανοιχτή Συνέλευση Πλατείας Συντάγματος
URL:https://mail.kinimatorama.net/event/9553
END:VEVENT
END:VCALENDAR
