BEGIN:VCALENDAR
VERSION:2.0
PRODID:-//demosphere.net//NONSGML kigkonsult.se iCalcreator 2.22.1//
METHOD:REQUEST
X-WR-TIMEZONE:Europe/Athens
BEGIN:VEVENT
UID:https://mail.kinimatorama.net/event/96656
DTSTAMP:20180513T100000Z
DESCRIPTION:περισσότερες πληροφορίες: https://mail.kinimatorama.net/event/9
 6656 
DTSTART:20180513T100000Z
DTEND:20180513T110000Z
GEO:+37.975682;+23.734846
LOCATION:Αθήνα\, \nΠλατεία Συντάγματος (Σύνταγμα)
SUMMARY:Διεθνιστική Αντιφασιστική συγκέντρωση
URL:https://mail.kinimatorama.net/event/96656
END:VEVENT
END:VCALENDAR
