BEGIN:VCALENDAR
VERSION:2.0
PRODID:-//demosphere.net//NONSGML kigkonsult.se iCalcreator 2.22.1//
METHOD:REQUEST
X-WR-TIMEZONE:Europe/Athens
BEGIN:VEVENT
UID:https://mail.kinimatorama.net/event/9695
DTSTAMP:20110409T090000Z
DESCRIPTION:περισσότερες πληροφορίες: https://mail.kinimatorama.net/event/9
 695 
DTSTART:20110409T090000Z
DTEND:20110409T100000Z
GEO:+37.975682;+23.734846
LOCATION:Αθήνα\, \nΠλατεία Συντάγματος (Σύνταγμα)
SUMMARY:Κάλεσμα σε ανοιχτή συνέλευση
URL:https://mail.kinimatorama.net/event/9695
END:VEVENT
END:VCALENDAR
