BEGIN:VCALENDAR
VERSION:2.0
PRODID:-//demosphere.net//NONSGML kigkonsult.se iCalcreator 2.22.1//
METHOD:REQUEST
X-WR-TIMEZONE:Europe/Athens
BEGIN:VEVENT
UID:https://mail.kinimatorama.net/event/98730
DTSTAMP:20180626T160000Z
DESCRIPTION:περισσότερες πληροφορίες: https://mail.kinimatorama.net/event/9
 8730 
DTSTART:20180626T160000Z
DTEND:20180626T170000Z
GEO:+39.620611;+19.91523
LOCATION:Κέρκυρα\, \nκατάληψη Αντινομία \nπαλιό ψυχιατρείο
SUMMARY:Ανοικτή διαχειριστική συνέλευση κατάληψης Αντινομία
URL:https://mail.kinimatorama.net/event/98730
END:VEVENT
END:VCALENDAR
