BEGIN:VCALENDAR
VERSION:2.0
PRODID:-//demosphere.net//NONSGML kigkonsult.se iCalcreator 2.22.1//
METHOD:REQUEST
X-WR-TIMEZONE:Europe/Athens
BEGIN:VEVENT
UID:https://mail.kinimatorama.net/event/99145
DTSTAMP:20180710T160000Z
DESCRIPTION:περισσότερες πληροφορίες: https://mail.kinimatorama.net/event/9
 9145 
DTSTART:20180710T160000Z
DTEND:20180710T170000Z
GEO:+39.620611;+19.91523
LOCATION:Κέρκυρα\, \nκατάληψη Αντινομία \nπαλιό ψυχιατρείο
SUMMARY:Εργασίες & προβολή της ταινίας 'Οι τεμπεληδες της εύφορης κοιλάδας'
URL:https://mail.kinimatorama.net/event/99145
END:VEVENT
END:VCALENDAR
