BEGIN:VCALENDAR
VERSION:2.0
PRODID:-//demosphere.net//NONSGML kigkonsult.se iCalcreator 2.22.1//
METHOD:REQUEST
X-WR-TIMEZONE:Europe/Athens
BEGIN:VEVENT
UID:https://mail.kinimatorama.net/event/99258
DTSTAMP:20180716T150000Z
DESCRIPTION:περισσότερες πληροφορίες: https://mail.kinimatorama.net/event/9
 9258 
DTSTART:20180716T150000Z
DTEND:20180716T160000Z
GEO:+39.620611;+19.91523
LOCATION:Κέρκυρα\, \nκατάληψη Αντινομία \nπαλιό ψυχιατρείο
SUMMARY:Εργασίες & ανοιχτή διαχειριστική συνέλευση Κατάληψης Αντινομία
URL:https://mail.kinimatorama.net/event/99258
END:VEVENT
END:VCALENDAR
